BEGIN:VCALENDAR
VERSION:2.0
PRODID:-//Tukios.com/
BEGIN:VEVENT
UID:ffccc226-43c5-452d-8bb1-508d3fed88a5@www.mountpleasantfuneralhome.com
DTSTAMP:20260420T034513Z
DTSTART:20260420T210000Z
DTEND:20260420T230000Z
SUMMARY:Visitation
DESCRIPTION:
URL:https://www.mountpleasantfuneralhome.com/obituaries/elvin-wilson
LOCATION: 122 N Cumberland Ave  Harlan KY 40831
GEO:36.8481379;-83.3234073
END:VEVENT
END:VCALENDAR