BEGIN:VCALENDAR
VERSION:2.0
PRODID:-//Tukios.com/
BEGIN:VEVENT
UID:63c0b063-169b-4d0f-bd16-823eb03a3766@www.mountpleasantfuneralhome.com
DTSTAMP:20260420T032824Z
DTSTART:20260421T160000Z
DTEND:20260421T170000Z
SUMMARY:Burial
DESCRIPTION:
URL:https://www.mountpleasantfuneralhome.com/obituaries/elvin-wilson
LOCATION:Robert Wilson Cemetery .Hwy 221  Bledsoe KY 40810
GEO:36.9032212;-83.3401971
END:VEVENT
END:VCALENDAR