BEGIN:VCALENDAR
VERSION:2.0
PRODID:-//Tukios.com/
BEGIN:VEVENT
UID:6b44bf60-3555-44aa-b16a-8d57c227ae0c@www.mountpleasantfuneralhome.com
DTSTAMP:20260424T190736Z
DTSTART:20260502T150000Z
DTEND:20260502T170000Z
SUMMARY:Visitation
DESCRIPTION:
URL:https://www.mountpleasantfuneralhome.com/obituaries/josephine-holt
LOCATION:Mount Pleasant Funeral Home 122 N Cumberland Ave  Harlan KY 
	40831
GEO:36.8481379;-83.3234073
END:VEVENT
END:VCALENDAR