BEGIN:VCALENDAR
VERSION:2.0
PRODID:-//Tukios.com/
BEGIN:VEVENT
UID:cd54f316-7600-4dea-8089-ed1f9a655418@www.mountpleasantfuneralhome.com
DTSTAMP:20260424T191320Z
DTSTART:20260502T170000Z
DTEND:20260502T180000Z
SUMMARY:Funeral Service
DESCRIPTION:
URL:https://www.mountpleasantfuneralhome.com/obituaries/josephine-holt
LOCATION:Mount Pleasant Funeral Home 122 N Cumberland Ave  Harlan KY 
	40831
GEO:36.8481379;-83.3234073
END:VEVENT
END:VCALENDAR